BEGIN:VCALENDAR
VERSION:2.0
PRODID:-//Newton Flotman Parish Council//Meeting Calendar//EN
CALSCALE:GREGORIAN
METHOD:PUBLISH
BEGIN:VEVENT
UID:71145-20260428@newtonflotman-pc.gov.uk
DTSTAMP:20260420T030316Z
DTSTART;VALUE=DATE:20260428
DTEND;VALUE=DATE:20260429
SUMMARY:Parish Council Meeting &#8211\\; 28th April 2026
DESCRIPTION:Full Council Meeting\nView details: https://newtonflotman-pc.gov.uk/meetings/parish-council-meeting-28th-april/
URL:https://newtonflotman-pc.gov.uk/meetings/parish-council-meeting-28th-april/
END:VEVENT
END:VCALENDAR
