BEGIN:VCALENDAR
VERSION:2.0
PRODID:-//Newton Flotman Parish Council//Meeting Calendar//EN
CALSCALE:GREGORIAN
METHOD:PUBLISH
BEGIN:VEVENT
UID:71144-20260428@newtonflotman-pc.gov.uk
DTSTAMP:20260420T025523Z
DTSTART;VALUE=DATE:20260428
DTEND;VALUE=DATE:20260429
SUMMARY:Annual Parish Meeting &#8211\\; 28th April 2026
DESCRIPTION:Annual Parish Meeting\nView details: https://newtonflotman-pc.gov.uk/meetings/annual-parish-meeting-28th-april-2026/
URL:https://newtonflotman-pc.gov.uk/meetings/annual-parish-meeting-28th-april-2026/
END:VEVENT
END:VCALENDAR
