BEGIN:VCALENDAR
VERSION:2.0
PRODID:-//Newton Flotman Parish Council//Meeting Calendar//EN
CALSCALE:GREGORIAN
METHOD:PUBLISH
BEGIN:VEVENT
UID:71142-20260224@newtonflotman-pc.gov.uk
DTSTAMP:20260420T063824Z
DTSTART;VALUE=DATE:20260224
DTEND;VALUE=DATE:20260225
SUMMARY:Parish Council Meeting &#8211\\; 24th February 2026
DESCRIPTION:Full Council Meeting\nView details: https://newtonflotman-pc.gov.uk/meetings/parish-council-meeting-24th-february/
URL:https://newtonflotman-pc.gov.uk/meetings/parish-council-meeting-24th-february/
END:VEVENT
END:VCALENDAR
