BEGIN:VCALENDAR
VERSION:2.0
PRODID:-//Newton Flotman Parish Council//Meeting Calendar//EN
CALSCALE:GREGORIAN
METHOD:PUBLISH
BEGIN:VEVENT
UID:71044-20250923@newtonflotman-pc.gov.uk
DTSTAMP:20260420T084537Z
DTSTART;VALUE=DATE:20250923
DTEND;VALUE=DATE:20250924
SUMMARY:Parish Council Meeting\\, 23rd September
DESCRIPTION:Full Council Meeting\nView details: https://newtonflotman-pc.gov.uk/meetings/parish-council-meeting-5/
URL:https://newtonflotman-pc.gov.uk/meetings/parish-council-meeting-5/
END:VEVENT
END:VCALENDAR
