BEGIN:VCALENDAR
VERSION:2.0
PRODID:-//Newton Flotman Parish Council//Meeting Calendar//EN
CALSCALE:GREGORIAN
METHOD:PUBLISH
BEGIN:VEVENT
UID:70686-20220121@newtonflotman-pc.gov.uk
DTSTAMP:20260420T084420Z
DTSTART;VALUE=DATE:20220121
DTEND;VALUE=DATE:20220122
SUMMARY:Planning Committee Meetings &#8211\\; 2022
DESCRIPTION:Council Meeting\nView details: https://newtonflotman-pc.gov.uk/meetings/planning-committee-meetings-2022/
URL:https://newtonflotman-pc.gov.uk/meetings/planning-committee-meetings-2022/
END:VEVENT
END:VCALENDAR
