BEGIN:VCALENDAR
VERSION:2.0
PRODID:-//Newton Flotman Parish Council//Meeting Calendar//EN
CALSCALE:GREGORIAN
METHOD:PUBLISH
BEGIN:VEVENT
UID:70503-20220415@newtonflotman-pc.gov.uk
DTSTAMP:20260420T084537Z
DTSTART;VALUE=DATE:20220415
DTEND;VALUE=DATE:20220416
SUMMARY:Annual Council Meeting &#8211\\; 26th April 2022
DESCRIPTION:Annual Parish Meeting\nView details: https://newtonflotman-pc.gov.uk/meetings/annual-council-meeting-2022/
URL:https://newtonflotman-pc.gov.uk/meetings/annual-council-meeting-2022/
END:VEVENT
END:VCALENDAR
